BEGIN:VCALENDAR
VERSION:2.0
PRODID:-//Sabre//Sabre VObject 4.5.3//EN
CALSCALE:GREGORIAN
BEGIN:VTIMEZONE
TZID:America/Chicago
X-MICROSOFT-CDO-TZID:11
BEGIN:STANDARD
DTSTART:20251102T070000
TZOFFSETFROM:-500
TZOFFSETTO:-600
TZNAME:CST
END:STANDARD
BEGIN:STANDARD
DTSTART:20261101T070000
TZOFFSETFROM:-500
TZOFFSETTO:-600
TZNAME:CST
END:STANDARD
BEGIN:DAYLIGHT
DTSTART:20260308T080000
TZOFFSETFROM:-600
TZOFFSETTO:-500
TZNAME:CDT
END:DAYLIGHT
END:VTIMEZONE
BEGIN:VEVENT
UID:sabre-vobject-e09f74d3-1b72-4e2e-bd16-7385e44b33f6
DTSTAMP:20260421T090540Z
SUMMARY:Easter Sunday
DTSTART;TZID=America/Chicago:20260405T000000
DTEND;TZID=America/Chicago:20260405T000000
LOCATION:Oakley Lindsay Center\, 300 Civic Center Plaza\, Quincy\, IL 62301
END:VEVENT
END:VCALENDAR
