BEGIN:VCALENDAR
VERSION:2.0
PRODID:-//Sabre//Sabre VObject 4.5.3//EN
CALSCALE:GREGORIAN
BEGIN:VTIMEZONE
TZID:America/Chicago
X-MICROSOFT-CDO-TZID:11
BEGIN:STANDARD
DTSTART:20251102T070000
TZOFFSETFROM:-500
TZOFFSETTO:-600
TZNAME:CST
END:STANDARD
BEGIN:STANDARD
DTSTART:20261101T070000
TZOFFSETFROM:-500
TZOFFSETTO:-600
TZNAME:CST
END:STANDARD
BEGIN:DAYLIGHT
DTSTART:20260308T080000
TZOFFSETFROM:-600
TZOFFSETTO:-500
TZNAME:CDT
END:DAYLIGHT
END:VTIMEZONE
BEGIN:VEVENT
UID:sabre-vobject-931484ba-a3fe-486b-adf0-6f9a29038920
DTSTAMP:20260421T214233Z
SUMMARY:Private Event Move out
DTSTART;TZID=America/Chicago:20260424T000000
DTEND;TZID=America/Chicago:20260426T000000
LOCATION:Oakley Lindsay Center\, 300 Civic Center Plaza\, Quincy\, IL 62301
END:VEVENT
END:VCALENDAR
